BEGIN:VCALENDAR
VERSION:2.0
PRODID:-//wp-events-plugin.com//7.2.3.1//EN
TZID:America/New_York
X-WR-TIMEZONE:America/New_York
BEGIN:VEVENT
UID:92@footballhotbed.com
DTSTART;TZID=America/New_York;VALUE=DATE:20260131
DTEND;TZID=America/New_York;VALUE=DATE:20260201
DTSTAMP:20260128T001306Z
URL:https://footballhotbed.com/events/10th-annual-hotbed-classic-7v7-tourn
 ament-january-31-2026/
SUMMARY:10th Annual Hotbed Classic 7v7 Tournament | January 31\, 2026
DESCRIPTION:One of the nation's largest exposure platforms with a 7v7 Tourn
 ament to open the season for the South Florida teams and others wanting to
  compete against the very best. 
ATTACH;FMTTYPE=image/jpeg:https://i0.wp.com/footballhotbed.com/wp-content/
 uploads/2026/01/WhatsApp-Image-2026-01-23-at-3.58.00-PM.jpeg?fit=1080%2C10
 80&ssl=1
CATEGORIES:7v7
LOCATION:Bunche Park\, 15600 Bunche Park Drive W\, Miami Gardens\, Florida\
 , 33054\, United States
X-APPLE-STRUCTURED-LOCATION;VALUE=URI;X-ADDRESS=15600 Bunche Park Drive W\,
  Miami Gardens\, Florida\, 33054\, United States;X-APPLE-RADIUS=100;X-TITL
 E=Bunche Park:geo:0,0
END:VEVENT
BEGIN:VTIMEZONE
TZID:America/New_York
X-LIC-LOCATION:America/New_York
BEGIN:STANDARD
DTSTART:20251102T010000
TZOFFSETFROM:-0400
TZOFFSETTO:-0500
TZNAME:EST
END:STANDARD
END:VTIMEZONE
END:VCALENDAR