BEGIN:VCALENDAR
VERSION:2.0
PRODID:-//wp-events-plugin.com//7.2.3.1//EN
TZID:America/New_York
X-WR-TIMEZONE:America/New_York
BEGIN:VEVENT
UID:89@footballhotbed.com
DTSTART;TZID=America/New_York;VALUE=DATE:20260116
DTEND;TZID=America/New_York;VALUE=DATE:20260120
DTSTAMP:20260111T151820Z
URL:https://footballhotbed.com/events/10th-annual-sophomore-national-high-
 school-showcase-class-of-2028/
SUMMARY:10th Annual | Sophomore National High School Showcase | Class of 20
 28
DESCRIPTION:A unique opportunity for college football aspirants across the 
 United States to gain an additional game to use for highlights and improvi
 ng their chances at obtaining a college football scholarship. 
ATTACH;FMTTYPE=image/jpeg:https://i0.wp.com/footballhotbed.com/wp-content/
 uploads/2025/09/10th-Annual-Sophomore-National-High-School-Showcase.png?fi
 t=1545%2C2000&ssl=1
CATEGORIES:High School Showcases
LOCATION:Woodland High School\, 800 Moseley Dr.\, Stockbridge\, GA\, 30281\
 , United States
X-APPLE-STRUCTURED-LOCATION;VALUE=URI;X-ADDRESS=800 Moseley Dr.\, Stockbrid
 ge\, GA\, 30281\, United States;X-APPLE-RADIUS=100;X-TITLE=Woodland High S
 chool:geo:0,0
END:VEVENT
BEGIN:VTIMEZONE
TZID:America/New_York
X-LIC-LOCATION:America/New_York
BEGIN:STANDARD
DTSTART:20251102T010000
TZOFFSETFROM:-0400
TZOFFSETTO:-0500
TZNAME:EST
END:STANDARD
END:VTIMEZONE
END:VCALENDAR