BEGIN:VCALENDAR
VERSION:2.0
PRODID:-//wp-events-plugin.com//7.2.3.1//EN
TZID:America/New_York
X-WR-TIMEZONE:America/New_York
BEGIN:VEVENT
UID:97@footballhotbed.com
DTSTART;TZID=America/New_York;VALUE=DATE:20260608
DTEND;TZID=America/New_York;VALUE=DATE:20260610
DTSTAMP:20260418T203346Z
URL:https://footballhotbed.com/events/12th-annual-national-middle-school-i
 nvitational-showcase-the-future-4/
SUMMARY:12th Annual National Middle School Invitational Showcase: The Futur
 e 4 at Duke University
DESCRIPTION:This is the nation's best platform to develop and expose Middle
  School Football Players\, the National Middle School Invitational Showcas
 e and Future 4 QB Competition. 
ATTACH;FMTTYPE=image/jpeg:https://i0.wp.com/footballhotbed.com/wp-content/
 uploads/2026/02/Flyer-2026-Future-4.png?fit=1080%2C1080&ssl=1
CATEGORIES:Middle School Showcases
LOCATION:Duke University\, 200 Pascal-Brooks Drive\, Durham\, North Carolin
 a\, 27705\, United States
X-APPLE-STRUCTURED-LOCATION;VALUE=URI;X-ADDRESS=200 Pascal-Brooks Drive\, D
 urham\, North Carolina\, 27705\, United States;X-APPLE-RADIUS=100;X-TITLE=
 Duke University:geo:0,0
END:VEVENT
BEGIN:VTIMEZONE
TZID:America/New_York
X-LIC-LOCATION:America/New_York
BEGIN:DAYLIGHT
DTSTART:20260308T030000
TZOFFSETFROM:-0500
TZOFFSETTO:-0400
TZNAME:EDT
END:DAYLIGHT
END:VTIMEZONE
END:VCALENDAR