BEGIN:VCALENDAR
VERSION:2.0
PRODID:-//wp-events-plugin.com//7.2.3.1//EN
TZID:America/New_York
X-WR-TIMEZONE:America/New_York
BEGIN:VEVENT
UID:11@footballhotbed.com
DTSTART;TZID=America/New_York;VALUE=DATE:20190130
DTEND;TZID=America/New_York;VALUE=DATE:20190802
DTSTAMP:20190711T220621Z
URL:https://footballhotbed.com/events/2019-national-specialist-showcase/
SUMMARY:2019 National SPECIALIST Showcase
DESCRIPTION:The goal is to provide exposure\, empower each athlete with met
 rics of their performance ability and create a competitive environment tha
 t produces improvement and provides a measuring stick for future success. 
  Specialist train consistently but aren't often put in pressure situations
  to test their performance.  The poise of specialist is perhaps the best t
 rait to have at the next level\, we've designed a competition to test just
  that.  Overall\, we provide a national platform and put talented athletes
  upon it and give them the chance to do something special.  We film all ou
 r workouts and they're available on Hudl and our writers\, social media st
 aff and coaches do a great job of giving standouts the exposure they need 
 to get recruited by college decision makers.
ATTACH;FMTTYPE=image/jpeg:https://i0.wp.com/footballhotbed.com/wp-content/
 uploads/2019/05/Specalist-Showcase-2019.png?fit=1200%2C1653&ssl=1
LOCATION:Cardinal Gibbons High School\, 2900 NE 47th Street\, Fort Lauderda
 le\, Florida\, 33308\, United States
X-APPLE-STRUCTURED-LOCATION;VALUE=URI;X-ADDRESS=2900 NE 47th Street\, Fort 
 Lauderdale\, Florida\, 33308\, United States;X-APPLE-RADIUS=100;X-TITLE=Ca
 rdinal Gibbons High School:geo:0,0
END:VEVENT
BEGIN:VTIMEZONE
TZID:America/New_York
X-LIC-LOCATION:America/New_York
BEGIN:STANDARD
DTSTART:20181104T010000
TZOFFSETFROM:-0400
TZOFFSETTO:-0500
TZNAME:EST
END:STANDARD
BEGIN:DAYLIGHT
DTSTART:20190310T030000
TZOFFSETFROM:-0500
TZOFFSETTO:-0400
TZNAME:EDT
END:DAYLIGHT
END:VTIMEZONE
END:VCALENDAR