BEGIN:VCALENDAR
VERSION:2.0
PRODID:-//wp-events-plugin.com//7.2.3.1//EN
TZID:America/New_York
X-WR-TIMEZONE:America/New_York
BEGIN:VEVENT
UID:21@footballhotbed.com
DTSTART;TZID=America/New_York;VALUE=DATE:20200710
DTEND;TZID=America/New_York;VALUE=DATE:20200712
DTSTAMP:20200707T183546Z
URL:https://footballhotbed.com/events/2020-national-middle-school-invitati
 onal-showcase-future-4-georgia-tech-2/
SUMMARY:July 10th & 11th\, 2020: National Middle School Invitational Showca
 se | The Future 4 | Atlanta\, GA
DESCRIPTION:This is the nation's best platform to develop and expose Middle
  School Quarterbacks. 
ATTACH;FMTTYPE=image/jpeg:https://i0.wp.com/footballhotbed.com/wp-content/
 uploads/2020/05/2020-National-MS-Invitational-Showcase.jpg?fit=1366%2C768&
 ssl=1
CATEGORIES:Middle School Showcases
LOCATION:Mt Pisgah Christian School\, 9875 Nesbit Ferry Road\, Johns Creek\
 , Georgia\, 30022\, United States
X-APPLE-STRUCTURED-LOCATION;VALUE=URI;X-ADDRESS=9875 Nesbit Ferry Road\, Jo
 hns Creek\, Georgia\, 30022\, United States;X-APPLE-RADIUS=100;X-TITLE=Mt 
 Pisgah Christian School:geo:0,0
END:VEVENT
BEGIN:VTIMEZONE
TZID:America/New_York
X-LIC-LOCATION:America/New_York
BEGIN:DAYLIGHT
DTSTART:20200308T030000
TZOFFSETFROM:-0500
TZOFFSETTO:-0400
TZNAME:EDT
END:DAYLIGHT
END:VTIMEZONE
END:VCALENDAR