BEGIN:VCALENDAR
VERSION:2.0
PRODID:-//wp-events-plugin.com//7.2.3.1//EN
TZID:America/New_York
X-WR-TIMEZONE:America/New_York
BEGIN:VEVENT
UID:17@footballhotbed.com
DTSTART;TZID=America/New_York:20200424T090000
DTEND;TZID=America/New_York:20200425T160000
DTSTAMP:20200403T002454Z
URL:https://footballhotbed.com/events/2020-national-middle-school-invitati
 onal-showcase-future-4-georgia-tech/
SUMMARY:2020 National Middle School Invitational Showcase | The Future 4 @ 
 Georgia Tech
DESCRIPTION:This is the nation's best platform to develop and expose Middle
  School Quarterbacks. 
ATTACH;FMTTYPE=image/jpeg:https://i0.wp.com/footballhotbed.com/wp-content/
 uploads/2020/02/Future-4.jpg?fit=1131%2C747&ssl=1
CATEGORIES:Middle School Showcases
END:VEVENT
BEGIN:VTIMEZONE
TZID:America/New_York
X-LIC-LOCATION:America/New_York
BEGIN:DAYLIGHT
DTSTART:20200308T030000
TZOFFSETFROM:-0500
TZOFFSETTO:-0400
TZNAME:EDT
END:DAYLIGHT
END:VTIMEZONE
END:VCALENDAR