BEGIN:VCALENDAR
VERSION:2.0
PRODID:-//wp-events-plugin.com//7.2.3.1//EN
TZID:America/New_York
X-WR-TIMEZONE:America/New_York
BEGIN:VEVENT
UID:25@footballhotbed.com
DTSTART;TZID=America/New_York:20200815T153000
DTEND;TZID=America/New_York:20200815T190000
DTSTAMP:20200815T134201Z
URL:https://footballhotbed.com/events/2020-national-specialist-showcase-at
 lanta/
SUMMARY:2020 National SPECIALIST Showcase Series @ Mt Pisgah Christian Augu
 st 15th
DESCRIPTION:The goal is to provide exposure\, empower each athlete with met
 rics of their performance ability and create a competitive environment tha
 t produces improvement and provides a measuring stick for future success. 
  Specialist train consistently but aren't often put in pressure situations
  to test their performance.  The poise of specialist is perhaps the best t
 rait to have at the next level\, we've designed a competition to test just
  that.  Overall\, we provide a national platform and put talented athletes
  upon it and give them the chance to do something special.  We film all ou
 r workouts and they're available on Hudl and our writers\, social media st
 aff and coaches do a great job of giving standouts the exposure they need 
 to get recruited by college decision makers.
ATTACH;FMTTYPE=image/jpeg:https://i0.wp.com/footballhotbed.com/wp-content/
 uploads/2020/07/specalist-showcase-Atlanta.jpg?fit=1000%2C1500&ssl=1
CATEGORIES:High School Showcases,Middle School Showcases
LOCATION:Mt. Pisgah Christian School\, 9825 Brumbelow Rd\, Johns Creek\, Ge
 orgia\, 30022\, United States
X-APPLE-STRUCTURED-LOCATION;VALUE=URI;X-ADDRESS=9825 Brumbelow Rd\, Johns C
 reek\, Georgia\, 30022\, United States;X-APPLE-RADIUS=100;X-TITLE=Mt. Pisg
 ah Christian School:geo:0,0
END:VEVENT
BEGIN:VTIMEZONE
TZID:America/New_York
X-LIC-LOCATION:America/New_York
BEGIN:DAYLIGHT
DTSTART:20200308T030000
TZOFFSETFROM:-0500
TZOFFSETTO:-0400
TZNAME:EDT
END:DAYLIGHT
END:VTIMEZONE
END:VCALENDAR