BEGIN:VCALENDAR
VERSION:2.0
PRODID:-//wp-events-plugin.com//7.2.3.1//EN
TZID:America/New_York
X-WR-TIMEZONE:America/New_York
BEGIN:VEVENT
UID:39@footballhotbed.com
DTSTART;TZID=America/New_York;VALUE=DATE:20210710
DTEND;TZID=America/New_York;VALUE=DATE:20210712
DTSTAMP:20210706T033619Z
URL:https://footballhotbed.com/events/2021-national-high-school-exposure-s
 howcase/
SUMMARY:2021 National High School EXPOSURE Showcase
DESCRIPTION:This is one of the nation's premier off-season events for High 
 School Athletes. A two-day camp with opportunities to perform in front of 
 coaches at Division II\, NAIA\, and Junior college level during a camp eva
 luation giving yourself a chance to be noticed and build your recruiting p
 rofile.  Day two is the completion of the competition. The goal? To show t
 hat you are the best athlete at your position in your class among attendin
 g athletes.
ATTACH;FMTTYPE=image/jpeg:https://i0.wp.com/footballhotbed.com/wp-content/
 uploads/2021/03/155160879_441155313866136_7558222601973522378_n.jpg?fit=10
 00%2C1500&ssl=1
CATEGORIES:High School Showcases
LOCATION:Denmark High School\, 645 Mullinax Road\, Alpharetta\, Georgia\, 3
 0004\, United States
X-APPLE-STRUCTURED-LOCATION;VALUE=URI;X-ADDRESS=645 Mullinax Road\, Alphare
 tta\, Georgia\, 30004\, United States;X-APPLE-RADIUS=100;X-TITLE=Denmark H
 igh School:geo:0,0
END:VEVENT
BEGIN:VTIMEZONE
TZID:America/New_York
X-LIC-LOCATION:America/New_York
BEGIN:DAYLIGHT
DTSTART:20210314T030000
TZOFFSETFROM:-0500
TZOFFSETTO:-0400
TZNAME:EDT
END:DAYLIGHT
END:VTIMEZONE
END:VCALENDAR