BEGIN:VCALENDAR
VERSION:2.0
PRODID:-//wp-events-plugin.com//7.2.3.1//EN
TZID:America/New_York
X-WR-TIMEZONE:America/New_York
BEGIN:VEVENT
UID:40@footballhotbed.com
DTSTART;TZID=America/New_York;VALUE=DATE:20211229
DTEND;TZID=America/New_York;VALUE=DATE:20220103
DTSTAMP:20220107T004135Z
URL:https://footballhotbed.com/events/2022-football-hotbed-senior-bowl/
SUMMARY:2022 Football Hotbed Senior Bowl
DESCRIPTION:A National Senior Showcase for the class of 2022 allowing them 
 to get film\, exposure and have a great experience on the Football Hotbed 
 Showcase Platform.
ATTACH;FMTTYPE=image/jpeg:https://i0.wp.com/footballhotbed.com/wp-content/
 uploads/2021/07/2022-Senior-Bowl-Official-Flyer.jpg?fit=1000%2C1500&ssl=1
CATEGORIES:High School Showcases
END:VEVENT
BEGIN:VTIMEZONE
TZID:America/New_York
X-LIC-LOCATION:America/New_York
BEGIN:STANDARD
DTSTART:20211107T010000
TZOFFSETFROM:-0400
TZOFFSETTO:-0500
TZNAME:EST
END:STANDARD
END:VTIMEZONE
END:VCALENDAR