BEGIN:VCALENDAR
VERSION:2.0
PRODID:-//wp-events-plugin.com//7.2.3.1//EN
TZID:America/New_York
X-WR-TIMEZONE:America/New_York
BEGIN:VEVENT
UID:100@footballhotbed.com
DTSTART;TZID=America/New_York;VALUE=DATE:20260708
DTEND;TZID=America/New_York;VALUE=DATE:20260713
DTSTAMP:20260418T235250Z
URL:https://footballhotbed.com/events/3rd-annual-ivy-league-academic-colle
 ge-tour/
SUMMARY:3rd Annual Ivy League & Academic College Tour
DESCRIPTION:Take control of your recruiting by visiting the nation's top sc
 hools and making your presence felt and network with the coaches that can 
 make the decisions about your college football future.
ATTACH;FMTTYPE=image/jpeg:https://i0.wp.com/footballhotbed.com/wp-content/
 uploads/2026/04/2026-Tour-Ivy-League-Tour.png?fit=1416%2C1080&ssl=1
CATEGORIES:High School Showcases
LOCATION:Boston Logan International Airport Airport\, East Boston\, Boston\
 , MA\, 02128\, United States
X-APPLE-STRUCTURED-LOCATION;VALUE=URI;X-ADDRESS=East Boston\, Boston\, MA\,
  02128\, United States;X-APPLE-RADIUS=100;X-TITLE=Boston Logan Internation
 al Airport Airport:geo:0,0
END:VEVENT
BEGIN:VTIMEZONE
TZID:America/New_York
X-LIC-LOCATION:America/New_York
BEGIN:DAYLIGHT
DTSTART:20260308T030000
TZOFFSETFROM:-0500
TZOFFSETTO:-0400
TZNAME:EDT
END:DAYLIGHT
END:VTIMEZONE
END:VCALENDAR