BEGIN:VCALENDAR
VERSION:2.0
PRODID:-//wp-events-plugin.com//7.2.3.1//EN
TZID:America/New_York
X-WR-TIMEZONE:America/New_York
BEGIN:VEVENT
UID:95@footballhotbed.com
DTSTART;TZID=America/Chicago;VALUE=DATE:20260413
DTEND;TZID=America/Chicago;VALUE=DATE:20260418
DTSTAMP:20260203T223825Z
URL:https://footballhotbed.com/events/5th-annual-texas-spring-college-tour
 -april-14-18th-2025/
SUMMARY:4th Annual Texas Spring College Tour: April 13-17th\, 2026
DESCRIPTION:Take control of your recruiting by visiting the nation's top sc
 hools and making your presence felt and network with the coaches that can 
 make the decisions about your college football future.
ATTACH;FMTTYPE=image/jpeg:https://i0.wp.com/footballhotbed.com/wp-content/
 uploads/2026/02/2026-Hotbed-Texas-Tour.png?fit=1080%2C1080&ssl=1
CATEGORIES:High School Showcases
LOCATION:Will Rogers World Airport\, 7100 Terminal Dr\, Oklahoma City\, OK\
 , 73159\, United States
X-APPLE-STRUCTURED-LOCATION;VALUE=URI;X-ADDRESS=7100 Terminal Dr\, Oklahoma
  City\, OK\, 73159\, United States;X-APPLE-RADIUS=100;X-TITLE=Will Rogers 
 World Airport:geo:0,0
END:VEVENT
BEGIN:VTIMEZONE
TZID:America/Chicago
X-LIC-LOCATION:America/Chicago
BEGIN:DAYLIGHT
DTSTART:20260308T030000
TZOFFSETFROM:-0600
TZOFFSETTO:-0500
TZNAME:CDT
END:DAYLIGHT
END:VTIMEZONE
END:VCALENDAR