BEGIN:VCALENDAR
VERSION:2.0
PRODID:-//wp-events-plugin.com//7.2.3.1//EN
TZID:America/New_York
X-WR-TIMEZONE:America/New_York
BEGIN:VEVENT
UID:34@footballhotbed.com
DTSTART;TZID=America/New_York;VALUE=DATE:20211229
DTEND;TZID=America/New_York;VALUE=DATE:20220103
DTSTAMP:20211122T194031Z
URL:https://footballhotbed.com/events/grammar-school-all-american-game-dec
 ember-30-2-2021/
SUMMARY:Grammar School All-American Game | December 29- Jan 1\, 2022
DESCRIPTION:A unique opportunity for college football aspirants across the 
 United States to gain an additional game to use for highlights and improvi
 ng their chances at obtaining a college football scholarship. 
ATTACH;FMTTYPE=image/jpeg:https://i0.wp.com/footballhotbed.com/wp-content/
 uploads/2020/10/2021-10-19_hotbed-gs-allamericangame.png?fit=1000%2C1250&s
 sl=1
CATEGORIES:Middle School Showcases
END:VEVENT
BEGIN:VTIMEZONE
TZID:America/New_York
X-LIC-LOCATION:America/New_York
BEGIN:STANDARD
DTSTART:20211107T010000
TZOFFSETFROM:-0400
TZOFFSETTO:-0500
TZNAME:EST
END:STANDARD
END:VTIMEZONE
END:VCALENDAR