BEGIN:VCALENDAR
VERSION:2.0
PRODID:-//wp-events-plugin.com//7.2.3.1//EN
TZID:America/New_York
X-WR-TIMEZONE:America/New_York
BEGIN:VEVENT
UID:27@footballhotbed.com
DTSTART;TZID=America/New_York:20200829T100000
DTEND;TZID=America/New_York:20200829T160000
DTSTAMP:20200826T194603Z
URL:https://footballhotbed.com/events/high-school-exposure-showcase-richmo
 nd-va-august-29th-2020/
SUMMARY:High School EXPOSURE Showcase | Richmond\, VA | August 29th 2020
DESCRIPTION:This is one of the nation's premier off-season event for High S
 chool Athletes. A day camp with opportunities to gain film and exposure.  
 Therefore you are giving yourself a chance to be noticed and build your re
 cruiting profile.  The goal? To show that you are the best athlete at your
  position in your class among attending athletes.
ATTACH;FMTTYPE=image/jpeg:https://i0.wp.com/footballhotbed.com/wp-content/
 uploads/2020/08/Exposure-2020-RICHMOND-VA_FLYER.jpg?fit=1158%2C796&ssl=1
CATEGORIES:High School Showcases
LOCATION:River City Sportsplex\, 13030 Genito Rd\, Midlothian\, VA\, 23112\
 , United States
X-APPLE-STRUCTURED-LOCATION;VALUE=URI;X-ADDRESS=13030 Genito Rd\, Midlothia
 n\, VA\, 23112\, United States;X-APPLE-RADIUS=100;X-TITLE=River City Sport
 splex:geo:0,0
END:VEVENT
BEGIN:VTIMEZONE
TZID:America/New_York
X-LIC-LOCATION:America/New_York
BEGIN:DAYLIGHT
DTSTART:20200308T030000
TZOFFSETFROM:-0500
TZOFFSETTO:-0400
TZNAME:EDT
END:DAYLIGHT
END:VTIMEZONE
END:VCALENDAR