BEGIN:VCALENDAR
VERSION:2.0
PRODID:-//wp-events-plugin.com//7.2.3.1//EN
TZID:America/New_York
X-WR-TIMEZONE:America/New_York
BEGIN:VEVENT
UID:38@footballhotbed.com
DTSTART;TZID=America/New_York;VALUE=DATE:20210709
DTEND;TZID=America/New_York;VALUE=DATE:20210711
DTSTAMP:20210702T201203Z
URL:https://footballhotbed.com/events/july-9th-10th-2021-national-middle-s
 chool-invitational-showcase-the-future-4-atlanta-ga/
SUMMARY:2021 National Middle School Invitational Showcase & The Future 4 | 
 Atlanta\, GA
DESCRIPTION:This is the nation's best platform to develop and expose Middle
  School Football Players. 
ATTACH;FMTTYPE=image/jpeg:https://i0.wp.com/footballhotbed.com/wp-content/
 uploads/2021/01/National-MS-Invitational-Showcase_Football-Hotbed.jpg?fit=
 1000%2C1250&ssl=1
CATEGORIES:Middle School Showcases
LOCATION:Denmark High School\, 645 Mullinax Road\, Alpharetta\, Georgia\, 3
 0004\, United States
X-APPLE-STRUCTURED-LOCATION;VALUE=URI;X-ADDRESS=645 Mullinax Road\, Alphare
 tta\, Georgia\, 30004\, United States;X-APPLE-RADIUS=100;X-TITLE=Denmark H
 igh School:geo:0,0
END:VEVENT
BEGIN:VTIMEZONE
TZID:America/New_York
X-LIC-LOCATION:America/New_York
BEGIN:DAYLIGHT
DTSTART:20210314T030000
TZOFFSETFROM:-0500
TZOFFSETTO:-0400
TZNAME:EDT
END:DAYLIGHT
END:VTIMEZONE
END:VCALENDAR