BEGIN:VCALENDAR
VERSION:2.0
PRODID:-//wp-events-plugin.com//7.2.3.1//EN
TZID:America/New_York
X-WR-TIMEZONE:America/New_York
BEGIN:VEVENT
UID:42@footballhotbed.com
DTSTART;TZID=America/New_York;VALUE=DATE:20211229
DTEND;TZID=America/New_York;VALUE=DATE:20220103
DTSTAMP:20211129T175534Z
URL:https://footballhotbed.com/events/middle-school-all-american-game-dece
 mber-29-jan-1-2022/
SUMMARY:Middle School All-American Game | December 29- Jan 1\, 2022
DESCRIPTION:A unique opportunity for college football aspirants across the 
 United States to gain an additional game to use for highlights and improvi
 ng their chances at obtaining a college football scholarship. 
ATTACH;FMTTYPE=image/jpeg:https://i0.wp.com/footballhotbed.com/wp-content/
 uploads/2021/11/2021-10-19_hotbed-ms-allamericangame-2.png?fit=1000%2C1250
 &ssl=1
CATEGORIES:Middle School Showcases
LOCATION:Westminster Academy Athletic Complex\, 3701 NW 44th St\, Lauderdal
 e Lakes\, FL 33319\, Lauderdale Lakes\, FL\, 33319\, United States
X-APPLE-STRUCTURED-LOCATION;VALUE=URI;X-ADDRESS=3701 NW 44th St\, Lauderdal
 e Lakes\, FL 33319\, Lauderdale Lakes\, FL\, 33319\, United States;X-APPLE
 -RADIUS=100;X-TITLE=Westminster Academy Athletic Complex:geo:0,0
END:VEVENT
BEGIN:VTIMEZONE
TZID:America/New_York
X-LIC-LOCATION:America/New_York
BEGIN:STANDARD
DTSTART:20211107T010000
TZOFFSETFROM:-0400
TZOFFSETTO:-0500
TZNAME:EST
END:STANDARD
END:VTIMEZONE
END:VCALENDAR