BEGIN:VCALENDAR
VERSION:2.0
PRODID:-//wp-events-plugin.com//7.2.3.1//EN
TZID:America/New_York
X-WR-TIMEZONE:America/New_York
BEGIN:VEVENT
UID:33@footballhotbed.com
DTSTART;TZID=America/New_York;VALUE=DATE:20201230
DTEND;TZID=America/New_York;VALUE=DATE:20210103
DTSTAMP:20201229T050610Z
URL:https://footballhotbed.com/events/middle-school-all-american-game-dece
 mber-30-2-2021/
SUMMARY:Middle School All-American Game | December 30- Jan 2\, 2021
DESCRIPTION:A unique opportunity for college football aspirants across the 
 United States to gain an additional game to use for highlights and improvi
 ng their chances at obtaining a college football scholarship. 
ATTACH;FMTTYPE=image/jpeg:https://i0.wp.com/footballhotbed.com/wp-content/
 uploads/2020/10/IMG_4797.jpeg?fit=1000%2C1500&ssl=1
CATEGORIES:Middle School Showcases
END:VEVENT
BEGIN:VTIMEZONE
TZID:America/New_York
X-LIC-LOCATION:America/New_York
BEGIN:STANDARD
DTSTART:20201101T010000
TZOFFSETFROM:-0400
TZOFFSETTO:-0500
TZNAME:EST
END:STANDARD
END:VTIMEZONE
END:VCALENDAR