BEGIN:VCALENDAR
VERSION:2.0
PRODID:-//wp-events-plugin.com//7.2.3.1//EN
TZID:America/New_York
X-WR-TIMEZONE:America/New_York
BEGIN:VEVENT
UID:15@footballhotbed.com
DTSTART;TZID=America/New_York;VALUE=DATE:20200101
DTEND;TZID=America/New_York;VALUE=DATE:20200105
DTSTAMP:20200101T040024Z
URL:https://footballhotbed.com/events/middle-school-american-game-january-
 1-4-2020/
SUMMARY:Middle School All-American Game | January 1-4\, 2020
DESCRIPTION:A unique opportunity for college football aspirants across the 
 United States to gain an additional game to use for highlights and improvi
 ng their chances at obtaining a college football scholarship. 
ATTACH;FMTTYPE=image/jpeg:https://i0.wp.com/footballhotbed.com/wp-content/
 uploads/2019/10/48391631_2471016652925748_3139418156171264000_n.jpg?fit=96
 0%2C865&ssl=1
CATEGORIES:High School Showcases
END:VEVENT
BEGIN:VTIMEZONE
TZID:America/New_York
X-LIC-LOCATION:America/New_York
BEGIN:STANDARD
DTSTART:20191103T010000
TZOFFSETFROM:-0400
TZOFFSETTO:-0500
TZNAME:EST
END:STANDARD
END:VTIMEZONE
END:VCALENDAR