BEGIN:VCALENDAR
VERSION:2.0
PRODID:-//wp-events-plugin.com//7.2.3.1//EN
TZID:America/New_York
X-WR-TIMEZONE:America/New_York
BEGIN:VEVENT
UID:8@footballhotbed.com
DTSTART;TZID=America/New_York;VALUE=DATE:20190130
DTEND;TZID=America/New_York;VALUE=DATE:20190802
DTSTAMP:20190617T182638Z
URL:https://footballhotbed.com/events/national-high-school-exposure-showca
 se-2019/
SUMMARY:National High School EXPOSURE Showcase 2019
DESCRIPTION:This is one of the nation's premier off-season event for High S
 chool Athletes. A two-day camp with opportunities to perform in front of c
 oaches at the Division II\, NAIA and Junior college level during a camp ev
 aluation giving yourself a chance to be noticed and build your recruiting 
 profile.  Day two is the completion of the competition. The goal? To show 
 that you are the best athlete at your position in your class among attendi
 ng athletes.
ATTACH;FMTTYPE=image/jpeg:https://i0.wp.com/footballhotbed.com/wp-content/
 uploads/2019/05/2019-Exposure-Showcase-v.2.png?fit=1200%2C1653&ssl=1
LOCATION:St. Thomas Aquinas\, 2801 SW 12th St\, Ft. Lauderdale\, Florida\, 
 33312\, United States
X-APPLE-STRUCTURED-LOCATION;VALUE=URI;X-ADDRESS=2801 SW 12th St\, Ft. Laude
 rdale\, Florida\, 33312\, United States;X-APPLE-RADIUS=100;X-TITLE=St. Tho
 mas Aquinas:geo:0,0
END:VEVENT
BEGIN:VTIMEZONE
TZID:America/New_York
X-LIC-LOCATION:America/New_York
BEGIN:STANDARD
DTSTART:20181104T010000
TZOFFSETFROM:-0400
TZOFFSETTO:-0500
TZNAME:EST
END:STANDARD
BEGIN:DAYLIGHT
DTSTART:20190310T030000
TZOFFSETFROM:-0500
TZOFFSETTO:-0400
TZNAME:EDT
END:DAYLIGHT
END:VTIMEZONE
END:VCALENDAR