BEGIN:VCALENDAR
VERSION:2.0
PRODID:-//wp-events-plugin.com//7.2.3.1//EN
TZID:America/New_York
X-WR-TIMEZONE:America/New_York
BEGIN:VEVENT
UID:41@footballhotbed.com
DTSTART;TZID=America/New_York;VALUE=DATE:20220114
DTEND;TZID=America/New_York;VALUE=DATE:20220118
DTSTAMP:20220114T142332Z
URL:https://footballhotbed.com/events/national-high-school-showcase-games-
 freshman-sophomore-junior-january-17-2021/
SUMMARY:National High School Showcase Games | Freshman\, Sophomore & Junior
  | January 17\, 2022
DESCRIPTION:A unique opportunity for college football aspirants across the 
 United States to gain an additional game to use for highlights and improvi
 ng their chances at obtaining a college football scholarship. 
ATTACH;FMTTYPE=image/jpeg:https://i0.wp.com/footballhotbed.com/wp-content/
 uploads/2021/11/246019142_2999316357053438_972238976004381716_n.jpg?fit=10
 00%2C1250&ssl=1
CATEGORIES:High School Showcases
END:VEVENT
BEGIN:VTIMEZONE
TZID:America/New_York
X-LIC-LOCATION:America/New_York
BEGIN:STANDARD
DTSTART:20211107T010000
TZOFFSETFROM:-0400
TZOFFSETTO:-0500
TZNAME:EST
END:STANDARD
END:VTIMEZONE
END:VCALENDAR