BEGIN:VCALENDAR
VERSION:2.0
PRODID:-//wp-events-plugin.com//7.2.3.1//EN
TZID:America/New_York
X-WR-TIMEZONE:America/New_York
BEGIN:VEVENT
UID:32@footballhotbed.com
DTSTART;TZID=America/New_York;VALUE=DATE:20210115
DTEND;TZID=America/New_York;VALUE=DATE:20210119
DTSTAMP:20210115T014922Z
URL:https://footballhotbed.com/events/national-high-school-showcase-games-
 freshman-sophomore-junior-january-18-2021/
SUMMARY:National High School Showcase Games | Freshman\, Sophomore & Junior
  | January 18\, 2021
DESCRIPTION:A unique opportunity for college football aspirants across the 
 United States to gain an additional game to use for highlights and improvi
 ng their chances at obtaining a college football scholarship. 
ATTACH;FMTTYPE=image/jpeg:https://i0.wp.com/footballhotbed.com/wp-content/
 uploads/2020/10/IMG_4922.jpg?fit=1000%2C1250&ssl=1
CATEGORIES:High School Showcases
LOCATION:Mt. Pisgah Christian School\, 9825 Brumbelow Rd\, Johns Creek\, Ge
 orgia\, 30022\, United States
X-APPLE-STRUCTURED-LOCATION;VALUE=URI;X-ADDRESS=9825 Brumbelow Rd\, Johns C
 reek\, Georgia\, 30022\, United States;X-APPLE-RADIUS=100;X-TITLE=Mt. Pisg
 ah Christian School:geo:0,0
END:VEVENT
BEGIN:VTIMEZONE
TZID:America/New_York
X-LIC-LOCATION:America/New_York
BEGIN:STANDARD
DTSTART:20201101T010000
TZOFFSETFROM:-0400
TZOFFSETTO:-0500
TZNAME:EST
END:STANDARD
END:VTIMEZONE
END:VCALENDAR