BEGIN:VCALENDAR
VERSION:2.0
PRODID:-//wp-events-plugin.com//7.2.3.1//EN
TZID:America/New_York
X-WR-TIMEZONE:America/New_York
BEGIN:VEVENT
UID:14@footballhotbed.com
DTSTART;TZID=America/New_York;VALUE=DATE:20200117
DTEND;TZID=America/New_York;VALUE=DATE:20200121
DTSTAMP:20191209T224339Z
URL:https://footballhotbed.com/events/national-high-school-showcase-games-
 freshman-sophomore-junior-january-20-2020/
SUMMARY:National High School Showcase Games | Freshman\, Sophomore & Junior
  | January 20\, 2020
DESCRIPTION:A unique opportunity for college football aspirants across the 
 United States to gain an additional game to use for highlights and improvi
 ng their chances at obtaining a college football scholarship. 
ATTACH;FMTTYPE=image/jpeg:https://i0.wp.com/footballhotbed.com/wp-content/
 uploads/2019/09/50514933_2507863025907777_8992839336529494016_o.jpg?fit=15
 00%2C986&ssl=1
CATEGORIES:High School Showcases
LOCATION:McEachern High School Stadium\, 2400 New MacLand Rd\, Powder Sprin
 gs\, Georgia\, 30127\, United States
X-APPLE-STRUCTURED-LOCATION;VALUE=URI;X-ADDRESS=2400 New MacLand Rd\, Powde
 r Springs\, Georgia\, 30127\, United States;X-APPLE-RADIUS=100;X-TITLE=McE
 achern High School Stadium:geo:0,0
END:VEVENT
BEGIN:VTIMEZONE
TZID:America/New_York
X-LIC-LOCATION:America/New_York
BEGIN:STANDARD
DTSTART:20191103T010000
TZOFFSETFROM:-0400
TZOFFSETTO:-0500
TZNAME:EST
END:STANDARD
END:VTIMEZONE
END:VCALENDAR