BEGIN:VCALENDAR
VERSION:2.0
PRODID:-//wp-events-plugin.com//7.2.3.1//EN
TZID:America/New_York
X-WR-TIMEZONE:America/New_York
BEGIN:VEVENT
UID:24@footballhotbed.com
DTSTART;TZID=America/New_York:20200808T090000
DTEND;TZID=America/New_York:20200808T150000
DTSTAMP:20200807T022423Z
URL:https://footballhotbed.com/events/orlando-high-school-exposure-showcas
 e-2020/
SUMMARY:High School EXPOSURE Showcase | Orlando\, FL | August 8th 2020
DESCRIPTION:This is one of the nation's premier off-season event for High S
 chool Athletes. A day camp with opportunities to perform and film sent to 
 colleges at Division I\, Division II\, NAIA and Junior college level.  The
 refore you are giving yourself a chance to be noticed and build your recru
 iting profile.  The goal? To show that you are the best athlete at your po
 sition in your class among attending athletes.
ATTACH;FMTTYPE=image/jpeg:https://i0.wp.com/footballhotbed.com/wp-content/
 uploads/2020/07/Exposure-2020-Orlando_FLYER.jpg?fit=1167%2C795&ssl=1
CATEGORIES:High School Showcases
LOCATION:Austin-Tindall Sports Complex\, 4100 Boggy Creek Rd\, Kissimmee\, 
 Florida\, 34744\, United States
X-APPLE-STRUCTURED-LOCATION;VALUE=URI;X-ADDRESS=4100 Boggy Creek Rd\, Kissi
 mmee\, Florida\, 34744\, United States;X-APPLE-RADIUS=100;X-TITLE=Austin-T
 indall Sports Complex:geo:0,0
END:VEVENT
BEGIN:VTIMEZONE
TZID:America/New_York
X-LIC-LOCATION:America/New_York
BEGIN:DAYLIGHT
DTSTART:20200308T030000
TZOFFSETFROM:-0500
TZOFFSETTO:-0400
TZNAME:EDT
END:DAYLIGHT
END:VTIMEZONE
END:VCALENDAR