BEGIN:VCALENDAR
VERSION:2.0
PRODID:-//wp-events-plugin.com//7.2.3.1//EN
TZID:America/New_York
X-WR-TIMEZONE:America/New_York
BEGIN:VEVENT
UID:30@footballhotbed.com
DTSTART;TZID=America/New_York;VALUE=DATE:20201230
DTEND;TZID=America/New_York;VALUE=DATE:20210104
DTSTAMP:20210102T022054Z
URL:https://footballhotbed.com/events/senior-bowl/
SUMMARY:Senior Bowl
DESCRIPTION:A National Senior Showcase for the class of 2020. This has been
  an extraordinary year and Hotbed will allow seniors to get film one last 
 time to boost their college resumes.
ATTACH;FMTTYPE=image/jpeg:https://i0.wp.com/footballhotbed.com/wp-content/
 uploads/2020/09/119596594_3894149873945745_4959523928354890510_o.jpg?fit=5
 26%2C789&ssl=1
CATEGORIES:High School Showcases
LOCATION:The Orange Bowl Field at Joe Carter Park\, 1450 W Sunrise Blvd\, F
 ort Lauderdale\, Florida\, United States
X-APPLE-STRUCTURED-LOCATION;VALUE=URI;X-ADDRESS=1450 W Sunrise Blvd\, Fort 
 Lauderdale\, Florida\, United States;X-APPLE-RADIUS=100;X-TITLE=The Orange
  Bowl Field at Joe Carter Park:geo:0,0
END:VEVENT
BEGIN:VTIMEZONE
TZID:America/New_York
X-LIC-LOCATION:America/New_York
BEGIN:STANDARD
DTSTART:20201101T010000
TZOFFSETFROM:-0400
TZOFFSETTO:-0500
TZNAME:EST
END:STANDARD
END:VTIMEZONE
END:VCALENDAR