BEGIN:VCALENDAR
VERSION:2.0
PRODID:-//wp-events-plugin.com//7.2.3.1//EN
TZID:America/New_York
X-WR-TIMEZONE:America/New_York
BEGIN:VEVENT
UID:3@footballhotbed.com
DTSTART;TZID=America/New_York:20190129T183000
DTEND;TZID=America/New_York:20190129T233000
DTSTAMP:20190108T044633Z
URL:https://footballhotbed.com/events/senior-showcase/
SUMMARY:Senior Showcase
DESCRIPTION:A chance for seniors who don’t sign early to display their ab
 ility in front of Division II\, NAIA\, JUCO and D3 coaches. Event is also
  open to Prep School and Junior College Players also.
ATTACH;FMTTYPE=image/jpeg:https://i0.wp.com/footballhotbed.com/wp-content/
 uploads/2019/01/Senior-Showcase-Flyer.jpg?fit=1500%2C1500&ssl=1
LOCATION:The Orange Bowl Field at Ives Estates\, 20901 NE 16th Ave\, Miami\
 , Florida\, United States
X-APPLE-STRUCTURED-LOCATION;VALUE=URI;X-ADDRESS=20901 NE 16th Ave\, Miami\,
  Florida\, United States;X-APPLE-RADIUS=100;X-TITLE=The Orange Bowl Field 
 at Ives Estates:geo:0,0
END:VEVENT
BEGIN:VTIMEZONE
TZID:America/New_York
X-LIC-LOCATION:America/New_York
BEGIN:STANDARD
DTSTART:20181104T010000
TZOFFSETFROM:-0400
TZOFFSETTO:-0500
TZNAME:EST
END:STANDARD
END:VTIMEZONE
END:VCALENDAR