BEGIN:VCALENDAR
VERSION:2.0
PRODID:-//wp-events-plugin.com//7.2.3.1//EN
TZID:America/New_York
X-WR-TIMEZONE:America/New_York
BEGIN:VEVENT
UID:4@footballhotbed.com
DTSTART;TZID=America/New_York;VALUE=DATE:20190202
DTEND;TZID=America/New_York;VALUE=DATE:20190203
DTSTAMP:20190201T202556Z
URL:https://footballhotbed.com/events/south-florida-7v7-invitational/
SUMMARY:South Florida 7v7 Invitational
DESCRIPTION:Description: A tournament combining the best 7v7 Clubs in the s
 tate of Florida and beyond
ATTACH;FMTTYPE=image/jpeg:https://i0.wp.com/footballhotbed.com/wp-content/
 uploads/2019/01/Flyer.jpg?fit=1500%2C1500&ssl=1
END:VEVENT
BEGIN:VTIMEZONE
TZID:America/New_York
X-LIC-LOCATION:America/New_York
BEGIN:STANDARD
DTSTART:20181104T010000
TZOFFSETFROM:-0400
TZOFFSETTO:-0500
TZNAME:EST
END:STANDARD
END:VTIMEZONE
END:VCALENDAR