BEGIN:VCALENDAR
VERSION:2.0
PRODID:-//wp-events-plugin.com//7.2.3.1//EN
TZID:America/New_York
X-WR-TIMEZONE:America/New_York
BEGIN:VEVENT
UID:16@footballhotbed.com
DTSTART;TZID=America/New_York:20200201T080000
DTEND;TZID=America/New_York:20200201T200000
DTSTAMP:20200129T214753Z
URL:https://footballhotbed.com/events/south-florida-7v7-season-opener-hotb
 ed-classic/
SUMMARY:South Florida 7v7 Season Opener: The Hotbed Classic
DESCRIPTION:One of the most quality 7v7 tournaments powered by the exposure
  of Footballhotbed.com.  
ATTACH;FMTTYPE=image/jpeg:https://i0.wp.com/footballhotbed.com/wp-content/
 uploads/2020/01/7v7-Flyer-FINAL.jpg?fit=1498%2C996&ssl=1
CATEGORIES:7v7,High School Showcases
LOCATION:Mills Pond Park\, 2201 NW 9th Ave\, Fort Lauderdale\, Florida\, 33
 11\, United States
X-APPLE-STRUCTURED-LOCATION;VALUE=URI;X-ADDRESS=2201 NW 9th Ave\, Fort Laud
 erdale\, Florida\, 3311\, United States;X-APPLE-RADIUS=100;X-TITLE=Mills P
 ond Park:geo:0,0
END:VEVENT
BEGIN:VTIMEZONE
TZID:America/New_York
X-LIC-LOCATION:America/New_York
BEGIN:STANDARD
DTSTART:20191103T010000
TZOFFSETFROM:-0400
TZOFFSETTO:-0500
TZNAME:EST
END:STANDARD
END:VTIMEZONE
END:VCALENDAR