BEGIN:VCALENDAR
VERSION:2.0
PRODID:-//wp-events-plugin.com//7.2.3.1//EN
TZID:America/New_York
X-WR-TIMEZONE:America/New_York
BEGIN:VEVENT
UID:37@footballhotbed.com
DTSTART;TZID=America/New_York:20210213T080000
DTEND;TZID=America/New_York:20210213T210000
DTSTAMP:20210211T215645Z
URL:https://footballhotbed.com/events/south-florida-7v7-season-opener-the-
 hotbed-classic-reloaded/
SUMMARY:The Hotbed Classic 7v7 Tournament
DESCRIPTION:One of the nation's largest exposure platforms with a 7v7 Tourn
 ament to open the season for the South Florida teams. 
ATTACH;FMTTYPE=image/jpeg:https://i0.wp.com/footballhotbed.com/wp-content/
 uploads/2021/01/147930580_149332483582123_3056366959408073623_n.png?fit=15
 82%2C2048&ssl=1
CATEGORIES:7v7
LOCATION:The Orange Bowl Field at Joe Carter Park\, 1450 W Sunrise Blvd\, F
 ort Lauderdale\, Florida\, United States
X-APPLE-STRUCTURED-LOCATION;VALUE=URI;X-ADDRESS=1450 W Sunrise Blvd\, Fort 
 Lauderdale\, Florida\, United States;X-APPLE-RADIUS=100;X-TITLE=The Orange
  Bowl Field at Joe Carter Park:geo:0,0
END:VEVENT
BEGIN:VTIMEZONE
TZID:America/New_York
X-LIC-LOCATION:America/New_York
BEGIN:STANDARD
DTSTART:20201101T010000
TZOFFSETFROM:-0400
TZOFFSETTO:-0500
TZNAME:EST
END:STANDARD
END:VTIMEZONE
END:VCALENDAR