BEGIN:VCALENDAR
VERSION:2.0
PRODID:-//wp-events-plugin.com//7.2.3.1//EN
TZID:America/New_York
X-WR-TIMEZONE:America/New_York
BEGIN:VEVENT
UID:94@footballhotbed.com
DTSTART;TZID=America/New_York;VALUE=DATE:20260319
DTEND;TZID=America/New_York;VALUE=DATE:20260324
DTSTAMP:20260306T004458Z
URL:https://footballhotbed.com/events/spring-break-college-tour-march-19th
 -23rd/
SUMMARY:Spring Break College Tour: March 19th -23rd
DESCRIPTION:Take control of your recruiting by investing in yourself and ge
 t on the bus with Football Hotbed to travel to top colleges across the Sou
 theast. (FBS\, FCS).
ATTACH;FMTTYPE=image/jpeg:https://i0.wp.com/footballhotbed.com/wp-content/
 uploads/2026/02/2026-Hotbed-Southeast-Tour.png?fit=1080%2C1080&ssl=1
CATEGORIES:High School Showcases
LOCATION:Walmart Super Center\, 3801 Turtle Creek Dr\, Coral Springs\, FL\,
  33067\, United States
X-APPLE-STRUCTURED-LOCATION;VALUE=URI;X-ADDRESS=3801 Turtle Creek Dr\, Cora
 l Springs\, FL\, 33067\, United States;X-APPLE-RADIUS=100;X-TITLE=Walmart 
 Super Center:geo:0,0
END:VEVENT
BEGIN:VTIMEZONE
TZID:America/New_York
X-LIC-LOCATION:America/New_York
BEGIN:DAYLIGHT
DTSTART:20260308T030000
TZOFFSETFROM:-0500
TZOFFSETTO:-0400
TZNAME:EDT
END:DAYLIGHT
END:VTIMEZONE
END:VCALENDAR