BEGIN:VCALENDAR
VERSION:2.0
PRODID:-//wp-events-plugin.com//7.2.3.1//EN
TZID:America/New_York
X-WR-TIMEZONE:America/New_York
BEGIN:VEVENT
UID:28@footballhotbed.com
DTSTART;TZID=America/New_York:20200912T090000
DTEND;TZID=America/New_York:20200912T150000
DTSTAMP:20200912T002022Z
URL:https://footballhotbed.com/events/super-max-exposure-showcase-orlando-
 fl-september-12th-2020/
SUMMARY:SUPER MAX EXPOSURE Showcase | Orlando\, FL | September 12th 2020
DESCRIPTION:This is one of the nation's premier off-season event for High S
 chool Athletes. Therefore you are giving yourself a chance to be noticed a
 nd build your recruiting profile.  The goal? To show that you are the best
  athlete at your position in your class among attending athletes.
ATTACH;FMTTYPE=image/jpeg:https://i0.wp.com/footballhotbed.com/wp-content/
 uploads/2020/08/FINAL_ORLANDO-SUPER-II-Sept-12.jpg?fit=1315%2C794&ssl=1
CATEGORIES:High School Showcases
LOCATION:Austin-Tindall Sports Complex\, 4100 Boggy Creek Rd\, Kissimmee\, 
 Florida\, 34744\, United States
X-APPLE-STRUCTURED-LOCATION;VALUE=URI;X-ADDRESS=4100 Boggy Creek Rd\, Kissi
 mmee\, Florida\, 34744\, United States;X-APPLE-RADIUS=100;X-TITLE=Austin-T
 indall Sports Complex:geo:0,0
END:VEVENT
BEGIN:VTIMEZONE
TZID:America/New_York
X-LIC-LOCATION:America/New_York
BEGIN:DAYLIGHT
DTSTART:20200308T030000
TZOFFSETFROM:-0500
TZOFFSETTO:-0400
TZNAME:EDT
END:DAYLIGHT
END:VTIMEZONE
END:VCALENDAR