BEGIN:VCALENDAR
VERSION:2.0
PRODID:-//wp-events-plugin.com//7.2.3.1//EN
TZID:America/New_York
X-WR-TIMEZONE:America/New_York
BEGIN:VEVENT
UID:43@footballhotbed.com
DTSTART;TZID=America/New_York:20220205T080000
DTEND;TZID=America/New_York:20220205T210000
DTSTAMP:20220112T191222Z
URL:https://footballhotbed.com/events/the-hotbed-classic-7v7-tournament-20
 22/
SUMMARY:2022 Hotbed Classic 7v7 Tournament
DESCRIPTION:One of the nation's largest exposure platforms with a 7v7 Tourn
 ament to open the season for the South Florida teams and others wanting to
  compete against the very best. 
ATTACH;FMTTYPE=image/jpeg:https://i0.wp.com/footballhotbed.com/wp-content/
 uploads/2022/01/271265470_658948141780314_9113739382452888445_n.jpg?fit=10
 00%2C1250&ssl=1
CATEGORIES:7v7
END:VEVENT
BEGIN:VTIMEZONE
TZID:America/New_York
X-LIC-LOCATION:America/New_York
BEGIN:STANDARD
DTSTART:20211107T010000
TZOFFSETFROM:-0400
TZOFFSETTO:-0500
TZNAME:EST
END:STANDARD
END:VTIMEZONE
END:VCALENDAR