BEGIN:VCALENDAR
VERSION:2.0
PRODID:-//wp-events-plugin.com//7.2.3.1//EN
TZID:America/New_York
X-WR-TIMEZONE:America/New_York
BEGIN:VEVENT
UID:36@footballhotbed.com
DTSTART;TZID=America/New_York:20201220T140000
DTEND;TZID=America/New_York:20201220T170000
DTSTAMP:20201219T013816Z
URL:https://footballhotbed.com/events/tryouts-hotbed-south-florida-7v7-15u
 -varsity/
SUMMARY:Tryouts: Hotbed South Florida 7v7 | 15U & Varsity
DESCRIPTION:Registration for the 7v7 club in South Florida
ATTACH;FMTTYPE=image/jpeg:https://i0.wp.com/footballhotbed.com/wp-content/
 uploads/2020/12/131525645_184505540036457_8328246275098278882_n-3.jpg?fit=
 1000%2C1250&ssl=1
CATEGORIES:High School Showcases
LOCATION:Joseph Carter Park\, 1450 W Sunrise Blvd\, Ft. Lauderdale\, FL\, 3
 3311\, United States
X-APPLE-STRUCTURED-LOCATION;VALUE=URI;X-ADDRESS=1450 W Sunrise Blvd\, Ft. L
 auderdale\, FL\, 33311\, United States;X-APPLE-RADIUS=100;X-TITLE=Joseph C
 arter Park:geo:0,0
END:VEVENT
BEGIN:VTIMEZONE
TZID:America/New_York
X-LIC-LOCATION:America/New_York
BEGIN:STANDARD
DTSTART:20201101T010000
TZOFFSETFROM:-0400
TZOFFSETTO:-0500
TZNAME:EST
END:STANDARD
END:VTIMEZONE
END:VCALENDAR